BEGIN:VCALENDAR
VERSION:2.0
PRODID:-//Easton Post - ECPv6.15.20//NONSGML v1.0//EN
CALSCALE:GREGORIAN
METHOD:PUBLISH
X-WR-CALNAME:Easton Post
X-ORIGINAL-URL:https://eastonpost.com
X-WR-CALDESC:Events for Easton Post
REFRESH-INTERVAL;VALUE=DURATION:PT1H
X-Robots-Tag:noindex
X-PUBLISHED-TTL:PT1H
BEGIN:VTIMEZONE
TZID:America/New_York
BEGIN:DAYLIGHT
TZOFFSETFROM:-0500
TZOFFSETTO:-0400
TZNAME:EDT
DTSTART:20250309T070000
END:DAYLIGHT
BEGIN:STANDARD
TZOFFSETFROM:-0400
TZOFFSETTO:-0500
TZNAME:EST
DTSTART:20251102T060000
END:STANDARD
BEGIN:DAYLIGHT
TZOFFSETFROM:-0500
TZOFFSETTO:-0400
TZNAME:EDT
DTSTART:20260308T070000
END:DAYLIGHT
BEGIN:STANDARD
TZOFFSETFROM:-0400
TZOFFSETTO:-0500
TZNAME:EST
DTSTART:20261101T060000
END:STANDARD
BEGIN:DAYLIGHT
TZOFFSETFROM:-0500
TZOFFSETTO:-0400
TZNAME:EDT
DTSTART:20270314T070000
END:DAYLIGHT
BEGIN:STANDARD
TZOFFSETFROM:-0400
TZOFFSETTO:-0500
TZNAME:EST
DTSTART:20271107T060000
END:STANDARD
END:VTIMEZONE
BEGIN:VEVENT
DTSTART;TZID=America/New_York:20260613T140000
DTEND;TZID=America/New_York:20260613T180000
DTSTAMP:20260420T213127
CREATED:20260407T160948Z
LAST-MODIFIED:20260407T161816Z
UID:10009715-1781359200-1781373600@eastonpost.com
SUMMARY:2026 Nazareth Food Truck Festival
DESCRIPTION:Calling all foodies! Join the Nazareth Area Chamber of Commerce for Nazareth’s premiere Food Truck Festival on June 13th\, 2026\, from 2-6 PM. Get ready for a culinary adventure as Nazareth Food Truck Festival transforms downtown Nazareth into a food paradise. From savory to sweet\, a diverse array of local businesses and food trucks will serve up something for every palette! There will also be live music throughout the day so stay tuned for the lineup! \nInterested in being a vendor? Visit t.ly/n6kkC for an application! \nStay tuned for updates! \nThank you to our Sponsors (as of 3/20/2026): \nFamily Fun Sponsor: Mario Andretti \nCommunity Partner Sponsor: Keystone Consulting Engineers
URL:https://eastonpost.com/event/2026-nazareth-food-truck-festival/
LOCATION:Belvidere St\, Nazareth\, PA\, United States
GEO:40.74038;-75.30962
END:VEVENT
END:VCALENDAR